BEGIN:VCALENDAR
VERSION:2.0
PRODID:-//City of Broken Bow, Nebraska - ECPv6.15.20//NONSGML v1.0//EN
CALSCALE:GREGORIAN
METHOD:PUBLISH
X-ORIGINAL-URL:https://cityofbrokenbow.org
X-WR-CALDESC:Events for City of Broken Bow, Nebraska
REFRESH-INTERVAL;VALUE=DURATION:PT1H
X-Robots-Tag:noindex
X-PUBLISHED-TTL:PT1H
BEGIN:VTIMEZONE
TZID:America/Chicago
BEGIN:DAYLIGHT
TZOFFSETFROM:-0600
TZOFFSETTO:-0500
TZNAME:CDT
DTSTART:20190310T080000
END:DAYLIGHT
BEGIN:STANDARD
TZOFFSETFROM:-0500
TZOFFSETTO:-0600
TZNAME:CST
DTSTART:20191103T070000
END:STANDARD
BEGIN:DAYLIGHT
TZOFFSETFROM:-0600
TZOFFSETTO:-0500
TZNAME:CDT
DTSTART:20200308T080000
END:DAYLIGHT
BEGIN:STANDARD
TZOFFSETFROM:-0500
TZOFFSETTO:-0600
TZNAME:CST
DTSTART:20201101T070000
END:STANDARD
BEGIN:DAYLIGHT
TZOFFSETFROM:-0600
TZOFFSETTO:-0500
TZNAME:CDT
DTSTART:20210314T080000
END:DAYLIGHT
BEGIN:STANDARD
TZOFFSETFROM:-0500
TZOFFSETTO:-0600
TZNAME:CST
DTSTART:20211107T070000
END:STANDARD
BEGIN:DAYLIGHT
TZOFFSETFROM:-0600
TZOFFSETTO:-0500
TZNAME:CDT
DTSTART:20220313T080000
END:DAYLIGHT
BEGIN:STANDARD
TZOFFSETFROM:-0500
TZOFFSETTO:-0600
TZNAME:CST
DTSTART:20221106T070000
END:STANDARD
BEGIN:DAYLIGHT
TZOFFSETFROM:-0600
TZOFFSETTO:-0500
TZNAME:CDT
DTSTART:20230312T080000
END:DAYLIGHT
BEGIN:STANDARD
TZOFFSETFROM:-0500
TZOFFSETTO:-0600
TZNAME:CST
DTSTART:20231105T070000
END:STANDARD
END:VTIMEZONE
BEGIN:VEVENT
DTSTART;TZID=America/Chicago:20220510T180000
DTEND;TZID=America/Chicago:20220510T180000
DTSTAMP:20260419T160621
CREATED:20250912T204733Z
LAST-MODIFIED:20250912T204733Z
UID:10000425-1652205600-1652205600@cityofbrokenbow.org
SUMMARY:City Council Meeting
DESCRIPTION:Broken Bow Municipal Building
URL:https://cityofbrokenbow.org/event/city-council-meeting-4/2022-05-10/
CATEGORIES:Community
END:VEVENT
BEGIN:VEVENT
DTSTART;TZID=America/Chicago:20220426T180000
DTEND;TZID=America/Chicago:20220426T180000
DTSTAMP:20260419T160621
CREATED:20210720T193900Z
LAST-MODIFIED:20210720T194622Z
UID:10000292-1650996000-1650996000@cityofbrokenbow.org
SUMMARY:City Council Meeting
DESCRIPTION:Broken Bow Municipal Building
URL:https://cityofbrokenbow.org/event/city-council-meeting-4/2022-04-26/
CATEGORIES:Community
END:VEVENT
BEGIN:VEVENT
DTSTART;TZID=America/Chicago:20220412T180000
DTEND;TZID=America/Chicago:20220412T180000
DTSTAMP:20260419T160621
CREATED:20250912T204733Z
LAST-MODIFIED:20250912T204733Z
UID:10000424-1649786400-1649786400@cityofbrokenbow.org
SUMMARY:City Council Meeting
DESCRIPTION:Broken Bow Municipal Building
URL:https://cityofbrokenbow.org/event/city-council-meeting-4/2022-04-12/
CATEGORIES:Community
END:VEVENT
BEGIN:VEVENT
DTSTART;TZID=America/Chicago:20220322T180000
DTEND;TZID=America/Chicago:20220322T180000
DTSTAMP:20260419T160621
CREATED:20210720T193900Z
LAST-MODIFIED:20210720T194622Z
UID:10000291-1647972000-1647972000@cityofbrokenbow.org
SUMMARY:City Council Meeting
DESCRIPTION:Broken Bow Municipal Building
URL:https://cityofbrokenbow.org/event/city-council-meeting-4/2022-03-22/
CATEGORIES:Community
END:VEVENT
BEGIN:VEVENT
DTSTART;TZID=America/Chicago:20220308T180000
DTEND;TZID=America/Chicago:20220308T180000
DTSTAMP:20260419T160621
CREATED:20250912T204733Z
LAST-MODIFIED:20250912T204733Z
UID:10000423-1646762400-1646762400@cityofbrokenbow.org
SUMMARY:City Council Meeting
DESCRIPTION:Broken Bow Municipal Building
URL:https://cityofbrokenbow.org/event/city-council-meeting-4/2022-03-08/
CATEGORIES:Community
END:VEVENT
BEGIN:VEVENT
DTSTART;TZID=America/Chicago:20220222T180000
DTEND;TZID=America/Chicago:20220222T180000
DTSTAMP:20260419T160621
CREATED:20210720T193900Z
LAST-MODIFIED:20210720T194622Z
UID:10000290-1645552800-1645552800@cityofbrokenbow.org
SUMMARY:City Council Meeting
DESCRIPTION:Broken Bow Municipal Building
URL:https://cityofbrokenbow.org/event/city-council-meeting-4/2022-02-22/
CATEGORIES:Community
END:VEVENT
BEGIN:VEVENT
DTSTART;TZID=America/Chicago:20220208T180000
DTEND;TZID=America/Chicago:20220208T180000
DTSTAMP:20260419T160621
CREATED:20250912T204733Z
LAST-MODIFIED:20250912T204733Z
UID:10000422-1644343200-1644343200@cityofbrokenbow.org
SUMMARY:City Council Meeting
DESCRIPTION:Broken Bow Municipal Building
URL:https://cityofbrokenbow.org/event/city-council-meeting-4/2022-02-08/
CATEGORIES:Community
END:VEVENT
BEGIN:VEVENT
DTSTART;TZID=America/Chicago:20220125T180000
DTEND;TZID=America/Chicago:20220125T180000
DTSTAMP:20260419T160621
CREATED:20210720T193900Z
LAST-MODIFIED:20210720T194622Z
UID:10000289-1643133600-1643133600@cityofbrokenbow.org
SUMMARY:City Council Meeting
DESCRIPTION:Broken Bow Municipal Building
URL:https://cityofbrokenbow.org/event/city-council-meeting-4/2022-01-25/
CATEGORIES:Community
END:VEVENT
BEGIN:VEVENT
DTSTART;TZID=America/Chicago:20220111T180000
DTEND;TZID=America/Chicago:20220111T180000
DTSTAMP:20260419T160621
CREATED:20250912T204733Z
LAST-MODIFIED:20250912T204733Z
UID:10000421-1641924000-1641924000@cityofbrokenbow.org
SUMMARY:City Council Meeting
DESCRIPTION:Broken Bow Municipal Building
URL:https://cityofbrokenbow.org/event/city-council-meeting-4/2022-01-11/
CATEGORIES:Community
END:VEVENT
BEGIN:VEVENT
DTSTART;TZID=America/Chicago:20211228T180000
DTEND;TZID=America/Chicago:20211228T180000
DTSTAMP:20260419T160621
CREATED:20210720T193900Z
LAST-MODIFIED:20210720T194622Z
UID:10000288-1640714400-1640714400@cityofbrokenbow.org
SUMMARY:City Council Meeting
DESCRIPTION:Broken Bow Municipal Building
URL:https://cityofbrokenbow.org/event/city-council-meeting-4/2021-12-28/
CATEGORIES:Community
END:VEVENT
BEGIN:VEVENT
DTSTART;TZID=America/Chicago:20211214T180000
DTEND;TZID=America/Chicago:20211214T180000
DTSTAMP:20260419T160621
CREATED:20250912T204733Z
LAST-MODIFIED:20250912T204733Z
UID:10000420-1639504800-1639504800@cityofbrokenbow.org
SUMMARY:City Council Meeting
DESCRIPTION:Broken Bow Municipal Building
URL:https://cityofbrokenbow.org/event/city-council-meeting-4/2021-12-14/
CATEGORIES:Community
END:VEVENT
BEGIN:VEVENT
DTSTART;TZID=America/Chicago:20211123T180000
DTEND;TZID=America/Chicago:20211123T180000
DTSTAMP:20260419T160621
CREATED:20210720T193900Z
LAST-MODIFIED:20210720T194622Z
UID:10000287-1637690400-1637690400@cityofbrokenbow.org
SUMMARY:City Council Meeting
DESCRIPTION:Broken Bow Municipal Building
URL:https://cityofbrokenbow.org/event/city-council-meeting-4/2021-11-23/
CATEGORIES:Community
END:VEVENT
BEGIN:VEVENT
DTSTART;TZID=America/Chicago:20211109T180000
DTEND;TZID=America/Chicago:20211109T180000
DTSTAMP:20260419T160621
CREATED:20250912T204733Z
LAST-MODIFIED:20250912T204733Z
UID:10000419-1636480800-1636480800@cityofbrokenbow.org
SUMMARY:City Council Meeting
DESCRIPTION:Broken Bow Municipal Building
URL:https://cityofbrokenbow.org/event/city-council-meeting-4/2021-11-09/
CATEGORIES:Community
END:VEVENT
BEGIN:VEVENT
DTSTART;TZID=America/Chicago:20211026T180000
DTEND;TZID=America/Chicago:20211026T180000
DTSTAMP:20260419T160621
CREATED:20210720T193900Z
LAST-MODIFIED:20210720T194622Z
UID:10000286-1635271200-1635271200@cityofbrokenbow.org
SUMMARY:City Council Meeting
DESCRIPTION:Broken Bow Municipal Building
URL:https://cityofbrokenbow.org/event/city-council-meeting-4/2021-10-26/
CATEGORIES:Community
END:VEVENT
BEGIN:VEVENT
DTSTART;TZID=America/Chicago:20211012T180000
DTEND;TZID=America/Chicago:20211012T180000
DTSTAMP:20260419T160621
CREATED:20250912T204733Z
LAST-MODIFIED:20250912T204733Z
UID:10000418-1634061600-1634061600@cityofbrokenbow.org
SUMMARY:City Council Meeting
DESCRIPTION:Broken Bow Municipal Building
URL:https://cityofbrokenbow.org/event/city-council-meeting-4/2021-10-12/
CATEGORIES:Community
END:VEVENT
BEGIN:VEVENT
DTSTART;TZID=America/Chicago:20210928T180000
DTEND;TZID=America/Chicago:20210928T180000
DTSTAMP:20260419T160621
CREATED:20210720T193900Z
LAST-MODIFIED:20210720T194622Z
UID:10000285-1632852000-1632852000@cityofbrokenbow.org
SUMMARY:City Council Meeting
DESCRIPTION:Broken Bow Municipal Building
URL:https://cityofbrokenbow.org/event/city-council-meeting-4/2021-09-28/
CATEGORIES:Community
END:VEVENT
BEGIN:VEVENT
DTSTART;TZID=America/Chicago:20210914T180000
DTEND;TZID=America/Chicago:20210914T180000
DTSTAMP:20260419T160621
CREATED:20250912T204733Z
LAST-MODIFIED:20250912T204733Z
UID:10000417-1631642400-1631642400@cityofbrokenbow.org
SUMMARY:City Council Meeting
DESCRIPTION:Broken Bow Municipal Building
URL:https://cityofbrokenbow.org/event/city-council-meeting-4/2021-09-14/
CATEGORIES:Community
END:VEVENT
BEGIN:VEVENT
DTSTART;TZID=America/Chicago:20210824T180000
DTEND;TZID=America/Chicago:20210824T180000
DTSTAMP:20260419T160621
CREATED:20210720T193900Z
LAST-MODIFIED:20210720T194622Z
UID:10000284-1629828000-1629828000@cityofbrokenbow.org
SUMMARY:City Council Meeting
DESCRIPTION:Broken Bow Municipal Building
URL:https://cityofbrokenbow.org/event/city-council-meeting-4/2021-08-24/
CATEGORIES:Community
END:VEVENT
BEGIN:VEVENT
DTSTART;TZID=America/Chicago:20210810T180000
DTEND;TZID=America/Chicago:20210810T180000
DTSTAMP:20260419T160621
CREATED:20250912T204733Z
LAST-MODIFIED:20250912T204733Z
UID:10000416-1628618400-1628618400@cityofbrokenbow.org
SUMMARY:City Council Meeting
DESCRIPTION:Broken Bow Municipal Building
URL:https://cityofbrokenbow.org/event/city-council-meeting-4/2021-08-10/
CATEGORIES:Community
END:VEVENT
BEGIN:VEVENT
DTSTART;TZID=America/Chicago:20210727T180000
DTEND;TZID=America/Chicago:20210727T180000
DTSTAMP:20260419T160621
CREATED:20210720T193900Z
LAST-MODIFIED:20210720T194622Z
UID:10000283-1627408800-1627408800@cityofbrokenbow.org
SUMMARY:City Council Meeting
DESCRIPTION:Broken Bow Municipal Building
URL:https://cityofbrokenbow.org/event/city-council-meeting-4/2021-07-27/
CATEGORIES:Community
END:VEVENT
BEGIN:VEVENT
DTSTART;TZID=America/Chicago:20200914T171000
DTEND;TZID=America/Chicago:20200914T181000
DTSTAMP:20260419T160621
CREATED:20200819T132438Z
LAST-MODIFIED:20200819T132438Z
UID:10000282-1600103400-1600107000@cityofbrokenbow.org
SUMMARY:Park Board Meeting
DESCRIPTION:
URL:https://cityofbrokenbow.org/event/park-board-meeting/
LOCATION:Municipal Building\, 314 South 10th Avenue\, Broken Bow\, NE\, 68822\, United States
CATEGORIES:Community
END:VEVENT
BEGIN:VEVENT
DTSTART;VALUE=DATE:20200912
DTEND;VALUE=DATE:20200913
DTSTAMP:20260419T160621
CREATED:20200814T145324Z
LAST-MODIFIED:20220622T202248Z
UID:10000277-1599868800-1599955199@cityofbrokenbow.org
SUMMARY:City Wide Clean Up
DESCRIPTION:2020 City Wide Clean-Up
URL:https://cityofbrokenbow.org/event/city-wide-clean-up/
CATEGORIES:Community
ATTACH;FMTTYPE=image/jpeg:https://cityofbrokenbow.org/app/uploads/2020/08/2020-City-Wide-Clean-Up-1-pdf.jpg
END:VEVENT
BEGIN:VEVENT
DTSTART;TZID=America/Chicago:20200908T180000
DTEND;TZID=America/Chicago:20200908T190000
DTSTAMP:20260419T160621
CREATED:20200819T132314Z
LAST-MODIFIED:20200819T132314Z
UID:10000280-1599588000-1599591600@cityofbrokenbow.org
SUMMARY:City Council Meeting
DESCRIPTION:
URL:https://cityofbrokenbow.org/event/city-council-meeting-3/
CATEGORIES:Community
END:VEVENT
BEGIN:VEVENT
DTSTART;TZID=America/Chicago:20200825T180000
DTEND;TZID=America/Chicago:20200825T190000
DTSTAMP:20260419T160621
CREATED:20200819T132149Z
LAST-MODIFIED:20200819T132149Z
UID:10000279-1598378400-1598382000@cityofbrokenbow.org
SUMMARY:City Council Meeting
DESCRIPTION:
URL:https://cityofbrokenbow.org/event/city-council-meeting-2/
LOCATION:Municipal Building\, 314 South 10th Avenue\, Broken Bow\, NE\, 68822\, United States
CATEGORIES:Community
END:VEVENT
END:VCALENDAR